BEGIN:VCALENDAR
VERSION:2.0
PRODID:-//Wabasha-Kellogg Chamber &amp; CVB - ECPv6.15.20//NONSGML v1.0//EN
CALSCALE:GREGORIAN
METHOD:PUBLISH
X-ORIGINAL-URL:https://www.wabashamn.org
X-WR-CALDESC:Events for Wabasha-Kellogg Chamber &amp; CVB
REFRESH-INTERVAL;VALUE=DURATION:PT1H
X-Robots-Tag:noindex
X-PUBLISHED-TTL:PT1H
BEGIN:VTIMEZONE
TZID:America/Chicago
BEGIN:DAYLIGHT
TZOFFSETFROM:-0600
TZOFFSETTO:-0500
TZNAME:CDT
DTSTART:20250309T080000
END:DAYLIGHT
BEGIN:STANDARD
TZOFFSETFROM:-0500
TZOFFSETTO:-0600
TZNAME:CST
DTSTART:20251102T070000
END:STANDARD
BEGIN:DAYLIGHT
TZOFFSETFROM:-0600
TZOFFSETTO:-0500
TZNAME:CDT
DTSTART:20260308T080000
END:DAYLIGHT
BEGIN:STANDARD
TZOFFSETFROM:-0500
TZOFFSETTO:-0600
TZNAME:CST
DTSTART:20261101T070000
END:STANDARD
BEGIN:DAYLIGHT
TZOFFSETFROM:-0600
TZOFFSETTO:-0500
TZNAME:CDT
DTSTART:20270314T080000
END:DAYLIGHT
BEGIN:STANDARD
TZOFFSETFROM:-0500
TZOFFSETTO:-0600
TZNAME:CST
DTSTART:20271107T070000
END:STANDARD
END:VTIMEZONE
BEGIN:VEVENT
DTSTART;TZID=America/Chicago:20260725T080000
DTEND;TZID=America/Chicago:20260725T140000
DTSTAMP:20260420T185125
CREATED:20260127T202402Z
LAST-MODIFIED:20260127T202703Z
UID:10003740-1784966400-1784988000@www.wabashamn.org
SUMMARY:5th Annual Wabasha Riverboat Days Classic Car Show – Hosted by The Katfish Kittens
DESCRIPTION:Saturday\, July 25th\, 2025 \n\n8:00 AM – 2:00 PM \n\nWest Main Street | Historic Downtown Wabasha\, Minnesota \n\n10 Sponsor Pick Trophies will be awarded to standout vehicles! \n\nLive Music All Day – Free and open to the public: \nRev your engines and shine up your chrome—Wabasha’s favorite summer tradition is back! The 5th Annual Wabasha Riverboat Days Car Show is rolling into town with vintage vibes\, incredible cars\, live music\, and a whole lot of heart. \nHosted by The Katfish Kittens—Minnesota’s iconic all-female car club—this classic car show will line West Main Street with the best 1989-and-older hot rods\, lowriders\, trucks\, customs\, and cruisers from across the region. \n🏆 10 Sponsor Pick Trophies will be awarded to standout vehicles! \n🎟️ Car Entry Fee: $20 per vehicle OR $15 with a tool donation supporting the Wabasha-Kellogg High School Shop Class \nHelp empower the next generation with hands-on skills while enjoying a day of community and classic cars! –> a portion of all vehicle entry fees will go directly to support the Wabasha-Kellogg Shop Class! \nThis isn’t just a car show—it’s a full-day celebration of classic cars\, rockin’ music\, and small-town charm right on the banks of the Mississippi River. Don’t miss it!
URL:https://www.wabashamn.org/event/5th-annual-wabasha-riverboat-days-classic-car-show-hosted-by-the-katfish-kittens/
LOCATION:257 Main Street West\, Wabasha\, MN\, United States\, Minnesota 55981\, 257 Main Street West\, Wabasha\, 55981\, United States
CATEGORIES:All Events,Riverboat Days,Riverboat Days Live Music
ATTACH;FMTTYPE=image/jpeg:https://www.wabashamn.org/wp-content/uploads/2026RIVERBOAT-CAR-SHOW-Save-the-Date-2up-01-19-2026.jpg
ORGANIZER;CN="Wabasha-Kellogg Chamber":MAILTO:director@wabashamn.org
GEO:44.3840599;-92.034035
X-APPLE-STRUCTURED-LOCATION;VALUE=URI;X-ADDRESS=257 Main Street West Wabasha MN United States Minnesota 55981 257 Main Street West Wabasha 55981 United States;X-APPLE-RADIUS=500;X-TITLE=257 Main Street West:geo:-92.034035,44.3840599
END:VEVENT
BEGIN:VEVENT
DTSTART;TZID=America/Chicago:20260725T170000
DTEND;TZID=America/Chicago:20260725T170000
DTSTAMP:20260420T185125
CREATED:20260211T223642Z
LAST-MODIFIED:20260212T161439Z
UID:10003937-1784998800-1784998800@www.wabashamn.org
SUMMARY:Pure Country WPVW 99.7 LIVE at Riverboat Days!
DESCRIPTION:Get ready to turn up the dial and celebrate community pride with Pure Country WPVW 99.7 FM—LIVE from the 47th Annual Wabasha Riverboat Days! \n5:00 PM – LIVE Broadcast Show\nJoin the crew on stage at Heritage Park as they go live with music\, interviews\, local flavor\, and that signature small-town energy you know and love! \n6:00 PM – Parade Announcing Team\nStick around as WPVW 99.7 takes the mic again to announce the 48th Annual Grand Parade\, presented by the Wabasha Rotary Club. Expect cheers\, community spirit\, and maybe even a few surprises as the floats roll through downtown Wabasha! \nBring your lawn chairs\, your best wave\, and your Riverboat Days spirit—because this is Pure Country fun you won’t want to miss! \nFacebook Event
URL:https://www.wabashamn.org/event/pure-country-wpvw-99-7-live-at-riverboat-days/
LOCATION:Heritage Park\, Main Street West\, Wabasha\, MN\, 55981\, United States
CATEGORIES:All Events,Live Music,Riverboat Days,Riverboat Days Live Music
ATTACH;FMTTYPE=image/jpeg:https://www.wabashamn.org/wp-content/uploads/Pure-Country.jpg
GEO:44.3840599;-92.034035
X-APPLE-STRUCTURED-LOCATION;VALUE=URI;X-ADDRESS=Heritage Park Main Street West Wabasha MN 55981 United States;X-APPLE-RADIUS=500;X-TITLE=Main Street West:geo:-92.034035,44.3840599
END:VEVENT
END:VCALENDAR