BEGIN:VCALENDAR
VERSION:2.0
PRODID:-//Wabasha-Kellogg Chamber &amp; CVB - ECPv6.15.20//NONSGML v1.0//EN
CALSCALE:GREGORIAN
METHOD:PUBLISH
X-WR-CALNAME:Wabasha-Kellogg Chamber &amp; CVB
X-ORIGINAL-URL:https://www.wabashamn.org
X-WR-CALDESC:Events for Wabasha-Kellogg Chamber &amp; CVB
REFRESH-INTERVAL;VALUE=DURATION:PT1H
X-Robots-Tag:noindex
X-PUBLISHED-TTL:PT1H
BEGIN:VTIMEZONE
TZID:America/Chicago
BEGIN:DAYLIGHT
TZOFFSETFROM:-0600
TZOFFSETTO:-0500
TZNAME:CDT
DTSTART:20250309T080000
END:DAYLIGHT
BEGIN:STANDARD
TZOFFSETFROM:-0500
TZOFFSETTO:-0600
TZNAME:CST
DTSTART:20251102T070000
END:STANDARD
BEGIN:DAYLIGHT
TZOFFSETFROM:-0600
TZOFFSETTO:-0500
TZNAME:CDT
DTSTART:20260308T080000
END:DAYLIGHT
BEGIN:STANDARD
TZOFFSETFROM:-0500
TZOFFSETTO:-0600
TZNAME:CST
DTSTART:20261101T070000
END:STANDARD
BEGIN:DAYLIGHT
TZOFFSETFROM:-0600
TZOFFSETTO:-0500
TZNAME:CDT
DTSTART:20270314T080000
END:DAYLIGHT
BEGIN:STANDARD
TZOFFSETFROM:-0500
TZOFFSETTO:-0600
TZNAME:CST
DTSTART:20271107T070000
END:STANDARD
END:VTIMEZONE
BEGIN:VEVENT
DTSTART;VALUE=DATE:20260418
DTEND;VALUE=DATE:20260419
DTSTAMP:20260425T225512
CREATED:20260326T162754Z
LAST-MODIFIED:20260326T162754Z
UID:10004802-1776470400-1776556799@www.wabashamn.org
SUMMARY:BJ's Bar & Grill - DJ Alpha Sound
DESCRIPTION:See DJ Alpha Sound at the BIG Banquet Room on April 18th
URL:https://www.wabashamn.org/event/bjs-bar-grill-dj-alpha-sound/
LOCATION:BJ’s Bar & Grill\, 61486 Wabasha County Rd 86\, Theilman\, MN 55945\, 55945\, United States
CATEGORIES:All Events,Live Music
ATTACH;FMTTYPE=image/png:https://www.wabashamn.org/wp-content/uploads/bj-bar-kampground.png
GEO:44.2685325;-92.1689846
X-APPLE-STRUCTURED-LOCATION;VALUE=URI;X-ADDRESS=BJ’s Bar & Grill 61486 Wabasha County Rd 86 Theilman MN 55945 55945 United States;X-APPLE-RADIUS=500;X-TITLE=61486 Wabasha County Rd 86:geo:-92.1689846,44.2685325
END:VEVENT
BEGIN:VEVENT
DTSTART;VALUE=DATE:20260411
DTEND;VALUE=DATE:20260412
DTSTAMP:20260425T225512
CREATED:20260326T162543Z
LAST-MODIFIED:20260326T163617Z
UID:10004800-1775865600-1775951999@www.wabashamn.org
SUMMARY:BJ's Bar & Grill - DJ Fish
DESCRIPTION:DJ Fish LIVE \nSee DJ Fish at the BIG Banquet Room on April 11th  (He does Karaoke also)
URL:https://www.wabashamn.org/event/bjs-bar-grill-dj-fish/
LOCATION:BJ’s Bar & Grill\, 61486 Wabasha County Rd 86\, Theilman\, MN 55945\, 55945\, United States
CATEGORIES:All Events,Live Music
ATTACH;FMTTYPE=image/png:https://www.wabashamn.org/wp-content/uploads/bj-bar-kampground.png
GEO:44.2685325;-92.1689846
X-APPLE-STRUCTURED-LOCATION;VALUE=URI;X-ADDRESS=BJ’s Bar & Grill 61486 Wabasha County Rd 86 Theilman MN 55945 55945 United States;X-APPLE-RADIUS=500;X-TITLE=61486 Wabasha County Rd 86:geo:-92.1689846,44.2685325
END:VEVENT
BEGIN:VEVENT
DTSTART;TZID=America/Chicago:20260404T170000
DTEND;TZID=America/Chicago:20260404T200000
DTSTAMP:20260425T225512
CREATED:20260326T161803Z
LAST-MODIFIED:20260326T161803Z
UID:10004799-1775322000-1775332800@www.wabashamn.org
SUMMARY:BJ's Bar & Grill - Duogringo
DESCRIPTION:Duogringo LIVE \nSee Duogringo LIVE on April 4th from 1PM to 4PM
URL:https://www.wabashamn.org/event/bjs-bar-grill-duogringo/
LOCATION:BJ’s Bar & Grill\, 61486 Wabasha County Rd 86\, Theilman\, MN 55945\, 55945\, United States
CATEGORIES:All Events,Live Music
ATTACH;FMTTYPE=image/png:https://www.wabashamn.org/wp-content/uploads/bj-bar-kampground.png
GEO:44.2685325;-92.1689846
X-APPLE-STRUCTURED-LOCATION;VALUE=URI;X-ADDRESS=BJ’s Bar & Grill 61486 Wabasha County Rd 86 Theilman MN 55945 55945 United States;X-APPLE-RADIUS=500;X-TITLE=61486 Wabasha County Rd 86:geo:-92.1689846,44.2685325
END:VEVENT
BEGIN:VEVENT
DTSTART;TZID=America/Chicago:20260328T170000
DTEND;TZID=America/Chicago:20260328T200000
DTSTAMP:20260425T225512
CREATED:20260326T161542Z
LAST-MODIFIED:20260326T161542Z
UID:10004798-1774717200-1774728000@www.wabashamn.org
SUMMARY:BJ's Bar & Grill - Ron Bublitz
DESCRIPTION:Ron Bublitz LIVE \nSee Ron Bublitz LIVE on March 28th from 5PM to 8PM
URL:https://www.wabashamn.org/event/bjs-bar-grill-ron-bublitz/
LOCATION:BJ’s Bar & Grill\, 61486 Wabasha County Rd 86\, Theilman\, MN 55945\, 55945\, United States
CATEGORIES:All Events,Live Music
ATTACH;FMTTYPE=image/png:https://www.wabashamn.org/wp-content/uploads/bj-bar-kampground.png
GEO:44.2685325;-92.1689846
X-APPLE-STRUCTURED-LOCATION;VALUE=URI;X-ADDRESS=BJ’s Bar & Grill 61486 Wabasha County Rd 86 Theilman MN 55945 55945 United States;X-APPLE-RADIUS=500;X-TITLE=61486 Wabasha County Rd 86:geo:-92.1689846,44.2685325
END:VEVENT
BEGIN:VEVENT
DTSTART;TZID=America/Chicago:20260214T130000
DTEND;TZID=America/Chicago:20260214T160000
DTSTAMP:20260425T225512
CREATED:20260203T153913Z
LAST-MODIFIED:20260203T153913Z
UID:10003748-1771074000-1771084800@www.wabashamn.org
SUMMARY:Horse Racing
DESCRIPTION:Come try your luck at Horse Racing! Help support the Plainview Polar Bearons Snowmobile Club
URL:https://www.wabashamn.org/event/horse-racing/
LOCATION:BJ’s Whippoorwill Kampground\, Wabasha County Road 86\, Kellogg\, Minnesota\, 55945\, United States
CATEGORIES:All Events
ATTACH;FMTTYPE=image/jpeg:https://www.wabashamn.org/wp-content/uploads/625371552_1488752773260357_5379162739963449824_n.jpg
GEO:44.2685325;-92.1689846
X-APPLE-STRUCTURED-LOCATION;VALUE=URI;X-ADDRESS=BJ’s Whippoorwill Kampground Wabasha County Road 86 Kellogg Minnesota 55945 United States;X-APPLE-RADIUS=500;X-TITLE=Wabasha County Road 86:geo:-92.1689846,44.2685325
END:VEVENT
END:VCALENDAR