BEGIN:VCALENDAR
VERSION:2.0
PRODID:-//Wabasha-Kellogg Chamber &amp; CVB - ECPv6.15.20//NONSGML v1.0//EN
CALSCALE:GREGORIAN
METHOD:PUBLISH
X-WR-CALNAME:Wabasha-Kellogg Chamber &amp; CVB
X-ORIGINAL-URL:https://www.wabashamn.org
X-WR-CALDESC:Events for Wabasha-Kellogg Chamber &amp; CVB
REFRESH-INTERVAL;VALUE=DURATION:PT1H
X-Robots-Tag:noindex
X-PUBLISHED-TTL:PT1H
BEGIN:VTIMEZONE
TZID:America/Chicago
BEGIN:DAYLIGHT
TZOFFSETFROM:-0600
TZOFFSETTO:-0500
TZNAME:CDT
DTSTART:20250309T080000
END:DAYLIGHT
BEGIN:STANDARD
TZOFFSETFROM:-0500
TZOFFSETTO:-0600
TZNAME:CST
DTSTART:20251102T070000
END:STANDARD
BEGIN:DAYLIGHT
TZOFFSETFROM:-0600
TZOFFSETTO:-0500
TZNAME:CDT
DTSTART:20260308T080000
END:DAYLIGHT
BEGIN:STANDARD
TZOFFSETFROM:-0500
TZOFFSETTO:-0600
TZNAME:CST
DTSTART:20261101T070000
END:STANDARD
BEGIN:DAYLIGHT
TZOFFSETFROM:-0600
TZOFFSETTO:-0500
TZNAME:CDT
DTSTART:20270314T080000
END:DAYLIGHT
BEGIN:STANDARD
TZOFFSETFROM:-0500
TZOFFSETTO:-0600
TZNAME:CST
DTSTART:20271107T070000
END:STANDARD
END:VTIMEZONE
BEGIN:VEVENT
DTSTART;VALUE=DATE:20260314
DTEND;VALUE=DATE:20260315
DTSTAMP:20260425T225610
CREATED:20260311T205945Z
LAST-MODIFIED:20260311T210519Z
UID:10004725-1773446400-1773532799@www.wabashamn.org
SUMMARY:Pi Day at The Lost Dutchman!
DESCRIPTION:Math has never tasted this good. \nThis Saturday\, March 14th\, celebrate Pi Day with us!\nPurchase any entrée from our menu and enjoy a slice of homemade pie for just $3.14. \nFrom savory favorites to sweet endings\, it’s the perfect excuse to treat yourself. After all… 3.14 only comes around once a year! \nGrab your friends\, bring your appetite\, and let’s celebrate Pi Day the delicious way. \n\nSaturday\, March 14\, 2026 \n\nPie for $3.14 with any entrée \nDine in\, relax\, and save room for pie.
URL:https://www.wabashamn.org/event/pi-day-at-the-lost-dutchman/
LOCATION:The Lost Dutchman\, 333 Main St W\, Wabash\, 55981\, United States
CATEGORIES:All Events
ATTACH;FMTTYPE=image/jpeg:https://www.wabashamn.org/wp-content/uploads/piday.jpg
GEO:44.3848191;-92.0349153
X-APPLE-STRUCTURED-LOCATION;VALUE=URI;X-ADDRESS=The Lost Dutchman 333 Main St W Wabash 55981 United States;X-APPLE-RADIUS=500;X-TITLE=333 Main St W:geo:-92.0349153,44.3848191
END:VEVENT
BEGIN:VEVENT
DTSTART;TZID=America/Chicago:20260301T090000
DTEND;TZID=America/Chicago:20260301T130000
DTSTAMP:20260425T225610
CREATED:20251217T212825Z
LAST-MODIFIED:20260108T190131Z
UID:10003020-1772355600-1772370000@www.wabashamn.org
SUMMARY:Kick off the Grumpy Old Men Festival with our Grumpy Style Breakfast Buffet at The Lost Dutchman!
DESCRIPTION:Start your weekend the grumpy way! \n\nEggs\, bacon\, sausage\, hash browns & more \n\nMimosas & Bloody Marys available \n\nHot coffee\, hearty plates\, zero nonsense \n\nSaturday: 8:00 AM – 11:00 AM \n\nSunday: 9:00 AM – 1:00 PM \n\nAdults: $18 | Kids under 13: $13 \n\n333 Main Street West\, Wabasha\, MN \nBring your appetite—and maybe your best grumpy face. We’ll handle the rest.
URL:https://www.wabashamn.org/event/kick-off-the-grumpy-old-men-festival-with-our-grumpy-style-breakfast-buffet-at-the-lost-dutchman/
LOCATION:The Lost Dutchman\, 333 Main St W\, Wabash\, 55981\, United States
CATEGORIES:All Events,Grumpy Old Men Days
ATTACH;FMTTYPE=image/jpeg:https://www.wabashamn.org/wp-content/uploads/GrumpyBreakfast.jpg
GEO:44.3848191;-92.0349153
X-APPLE-STRUCTURED-LOCATION;VALUE=URI;X-ADDRESS=The Lost Dutchman 333 Main St W Wabash 55981 United States;X-APPLE-RADIUS=500;X-TITLE=333 Main St W:geo:-92.0349153,44.3848191
END:VEVENT
BEGIN:VEVENT
DTSTART;TZID=America/Chicago:20260228T080000
DTEND;TZID=America/Chicago:20260228T110000
DTSTAMP:20260425T225610
CREATED:20251217T213709Z
LAST-MODIFIED:20251217T213709Z
UID:10003018-1772265600-1772276400@www.wabashamn.org
SUMMARY:Kick off the Grumpy Old Men Festival with our Grumpy Style Breakfast Buffet at The Lost Dutchman!
DESCRIPTION:Start your weekend the grumpy way! \n\nEggs\, bacon\, sausage\, hash browns & more \n\nMimosas & Bloody Marys available \n\nHot coffee\, hearty plates\, zero nonsense \n\nSaturday: 8:00 AM – 11:00 AM \n\nSunday: 9:00 AM – 1:00 PM \n\nAdults: $18 | Kids under 13: $13 \n\n333 Main Street West\, Wabasha\, MN \nBring your appetite—and maybe your best grumpy face. We’ll handle the rest.
URL:https://www.wabashamn.org/event/kick-off-the-grumpy-old-men-festival-with-our-grumpy-style-breakfast-buffet-at-the-lost-dutchman-2/
LOCATION:The Lost Dutchman\, 333 Main St W\, Wabash\, 55981\, United States
CATEGORIES:All Events,Grumpy Old Men Days
ATTACH;FMTTYPE=image/jpeg:https://www.wabashamn.org/wp-content/uploads/GrumpyBreakfast.jpg
GEO:44.3848191;-92.0349153
X-APPLE-STRUCTURED-LOCATION;VALUE=URI;X-ADDRESS=The Lost Dutchman 333 Main St W Wabash 55981 United States;X-APPLE-RADIUS=500;X-TITLE=333 Main St W:geo:-92.0349153,44.3848191
END:VEVENT
END:VCALENDAR