BEGIN:VCALENDAR
VERSION:2.0
PRODID:-//Wabasha-Kellogg Chamber &amp; CVB - ECPv6.15.20//NONSGML v1.0//EN
CALSCALE:GREGORIAN
METHOD:PUBLISH
X-WR-CALNAME:Wabasha-Kellogg Chamber &amp; CVB
X-ORIGINAL-URL:https://www.wabashamn.org
X-WR-CALDESC:Events for Wabasha-Kellogg Chamber &amp; CVB
REFRESH-INTERVAL;VALUE=DURATION:PT1H
X-Robots-Tag:noindex
X-PUBLISHED-TTL:PT1H
BEGIN:VTIMEZONE
TZID:America/Chicago
BEGIN:DAYLIGHT
TZOFFSETFROM:-0600
TZOFFSETTO:-0500
TZNAME:CDT
DTSTART:20250309T080000
END:DAYLIGHT
BEGIN:STANDARD
TZOFFSETFROM:-0500
TZOFFSETTO:-0600
TZNAME:CST
DTSTART:20251102T070000
END:STANDARD
BEGIN:DAYLIGHT
TZOFFSETFROM:-0600
TZOFFSETTO:-0500
TZNAME:CDT
DTSTART:20260308T080000
END:DAYLIGHT
BEGIN:STANDARD
TZOFFSETFROM:-0500
TZOFFSETTO:-0600
TZNAME:CST
DTSTART:20261101T070000
END:STANDARD
BEGIN:DAYLIGHT
TZOFFSETFROM:-0600
TZOFFSETTO:-0500
TZNAME:CDT
DTSTART:20270314T080000
END:DAYLIGHT
BEGIN:STANDARD
TZOFFSETFROM:-0500
TZOFFSETTO:-0600
TZNAME:CST
DTSTART:20271107T070000
END:STANDARD
END:VTIMEZONE
BEGIN:VEVENT
DTSTART;TZID=America/Chicago:20260411T100000
DTEND;TZID=America/Chicago:20260411T160000
DTSTAMP:20260420T211455
CREATED:20260327T192357Z
LAST-MODIFIED:20260327T192430Z
UID:10004806-1775901600-1775923200@www.wabashamn.org
SUMMARY:Meet the Vikings at Castlerock
DESCRIPTION:Last year’s Vikings included Tom and Kitty Latane\, Patrick Kelly\, Sally Anderson\, Terry Sorchy\, Janet Runions\, Jamie LaBreck\, and Nancy Sorchy. \nWant to learn more about the Vikings? Then visit Castlerock Museum in Alma\, Wisconsin on Saturday\, April 11th from 10am – 4pm for the museum’s annual “Meet the Vikings” event\, a daylong celebration of all things “Viking.” \nReenactors will be on hand to answer questions about Viking history\, culture\, clothing\, and weapons. There will be programs in the museum theater on Greenland in the Viking Age at 11am\, Viking Clothing at 1pm\, and Viking Weapons\, Armor\, and Tactics at 2pm. The latter will be followed by a shield wall demonstration\, weather permitting. Ongoing demonstrations include flax weaving and woodworking. Visitors can also see several actual Viking era artifacts on display including a spangenhelm\, chieftain’s sword\, and Danish axe. \nAdmission is $8 for adults and $5 for students. Children four and under are free. Contact the museum at 608-685-4231 or info@castlerockmuseum.com for more details.
URL:https://www.wabashamn.org/event/meet-the-vikings-at-castlerock/
LOCATION:Castlerock Museum\, 402 South Second Street\, Alma\, WI\, 54610\, United States
CATEGORIES:All Events
ATTACH;FMTTYPE=image/jpeg:https://www.wabashamn.org/wp-content/uploads/vikings.jpg
GEO:44.3196433;-91.9137923
X-APPLE-STRUCTURED-LOCATION;VALUE=URI;X-ADDRESS=Castlerock Museum 402 South Second Street Alma WI 54610 United States;X-APPLE-RADIUS=500;X-TITLE=402 South Second Street:geo:-91.9137923,44.3196433
END:VEVENT
BEGIN:VEVENT
DTSTART;TZID=America/Chicago:20260411T100000
DTEND;TZID=America/Chicago:20260411T160000
DTSTAMP:20260420T211455
CREATED:20260326T145050Z
LAST-MODIFIED:20260326T145655Z
UID:10004790-1775901600-1775923200@www.wabashamn.org
SUMMARY:Meet the Vikings
DESCRIPTION:Want to learn more about the Vikings? Then visit Castlerock Museum in Alma\, Wisconsin on Saturday\, April 11th from 10am – 4pm for the museum’s annual “Meet the Vikings” event\, a daylong celebration of all things “Viking.” \n\nApril 11th \n\n10am – 4pm \n\n$8 for adults\, $5 for students\, children four and under are free \nReenactors will be on hand to answer questions and there will be programs throughout the day on Viking history\, culture\, clothing\, and weapons. Demonstrations will include traditional Viking crafts including woodworking. Visitors can also see several actual Viking era artifacts on exhibit including a spangenhelm\, chieftain’s sword\, and Danish axe. \nContact the museum at 608-685-4231 or info@castlerockmuseum.com for more details.
URL:https://www.wabashamn.org/event/meet-the-vikings/
LOCATION:Castlerock Museum\, 402 South Second Street\, Alma\, WI\, 54610\, United States
CATEGORIES:All Events
ATTACH;FMTTYPE=image/jpeg:https://www.wabashamn.org/wp-content/uploads/Meet-The-Vikings-3.jpg
ORGANIZER;CN="Castlerock Museum":MAILTO:info@castlerockmuseum.com
GEO:44.3196433;-91.9137923
X-APPLE-STRUCTURED-LOCATION;VALUE=URI;X-ADDRESS=Castlerock Museum 402 South Second Street Alma WI 54610 United States;X-APPLE-RADIUS=500;X-TITLE=402 South Second Street:geo:-91.9137923,44.3196433
END:VEVENT
END:VCALENDAR