BEGIN:VCALENDAR
VERSION:2.0
PRODID:-//Wabasha-Kellogg Chamber &amp; CVB - ECPv6.15.20//NONSGML v1.0//EN
CALSCALE:GREGORIAN
METHOD:PUBLISH
X-ORIGINAL-URL:https://www.wabashamn.org
X-WR-CALDESC:Events for Wabasha-Kellogg Chamber &amp; CVB
REFRESH-INTERVAL;VALUE=DURATION:PT1H
X-Robots-Tag:noindex
X-PUBLISHED-TTL:PT1H
BEGIN:VTIMEZONE
TZID:America/Chicago
BEGIN:DAYLIGHT
TZOFFSETFROM:-0600
TZOFFSETTO:-0500
TZNAME:CDT
DTSTART:20250309T080000
END:DAYLIGHT
BEGIN:STANDARD
TZOFFSETFROM:-0500
TZOFFSETTO:-0600
TZNAME:CST
DTSTART:20251102T070000
END:STANDARD
BEGIN:DAYLIGHT
TZOFFSETFROM:-0600
TZOFFSETTO:-0500
TZNAME:CDT
DTSTART:20260308T080000
END:DAYLIGHT
BEGIN:STANDARD
TZOFFSETFROM:-0500
TZOFFSETTO:-0600
TZNAME:CST
DTSTART:20261101T070000
END:STANDARD
BEGIN:DAYLIGHT
TZOFFSETFROM:-0600
TZOFFSETTO:-0500
TZNAME:CDT
DTSTART:20270314T080000
END:DAYLIGHT
BEGIN:STANDARD
TZOFFSETFROM:-0500
TZOFFSETTO:-0600
TZNAME:CST
DTSTART:20271107T070000
END:STANDARD
END:VTIMEZONE
BEGIN:VEVENT
DTSTART;TZID=America/Chicago:20260312T180000
DTEND;TZID=America/Chicago:20260312T200000
DTSTAMP:20260420T181326
CREATED:20260211T193919Z
LAST-MODIFIED:20260212T155539Z
UID:10003932-1773338400-1773345600@www.wabashamn.org
SUMMARY:Candle Making hosted by Zen Homemade Candle
DESCRIPTION:Join us for a fun and creative night out at our Candle Making – Oval Dough Bowl Workshop hosted by Zen Homemade Candle. \nYou’ll craft your own luxurious 10 oz. wooden dough bowl candle\, selecting from a variety of premium scents to create something uniquely yours. \nWhether you’re a seasoned candle lover or a first-time maker – this experience is all about creativity\, connection & relaxation. \n\n$50 per candle \nHerb+Arrow\n260 West Main Street Wabasha\, MN 55981\nFor tickets email herbanarrow@outlook.com \nFacebook Event
URL:https://www.wabashamn.org/event/candle-making-hosted-by-zen-homemade-candle/
LOCATION:Herb + Arrow\, 260 West Main Street\, Wabasha\, MN\, 55981\, United States
CATEGORIES:All Events
ATTACH;FMTTYPE=image/jpeg:https://www.wabashamn.org/wp-content/uploads/HerbArrow.jpg
GEO:44.3846618;-92.0333844
X-APPLE-STRUCTURED-LOCATION;VALUE=URI;X-ADDRESS=Herb + Arrow 260 West Main Street Wabasha MN 55981 United States;X-APPLE-RADIUS=500;X-TITLE=260 West Main Street:geo:-92.0333844,44.3846618
END:VEVENT
BEGIN:VEVENT
DTSTART;VALUE=DATE:20260214
DTEND;VALUE=DATE:20260215
DTSTAMP:20260420T181326
CREATED:20260212T161734Z
LAST-MODIFIED:20260212T161734Z
UID:10003938-1771027200-1771113599@www.wabashamn.org
SUMMARY:Valentine's Day Specials
DESCRIPTION:
URL:https://www.wabashamn.org/event/valentines-day-specials/
LOCATION:Herb + Arrow\, 260 West Main Street\, Wabasha\, MN\, 55981\, United States
CATEGORIES:All Events
ATTACH;FMTTYPE=image/jpeg:https://www.wabashamn.org/wp-content/uploads/vday.jpg
GEO:44.3846618;-92.0333844
X-APPLE-STRUCTURED-LOCATION;VALUE=URI;X-ADDRESS=Herb + Arrow 260 West Main Street Wabasha MN 55981 United States;X-APPLE-RADIUS=500;X-TITLE=260 West Main Street:geo:-92.0333844,44.3846618
END:VEVENT
END:VCALENDAR