BEGIN:VCALENDAR
VERSION:2.0
PRODID:-//Wabasha-Kellogg Chamber &amp; CVB - ECPv6.15.20//NONSGML v1.0//EN
CALSCALE:GREGORIAN
METHOD:PUBLISH
X-WR-CALNAME:Wabasha-Kellogg Chamber &amp; CVB
X-ORIGINAL-URL:https://www.wabashamn.org
X-WR-CALDESC:Events for Wabasha-Kellogg Chamber &amp; CVB
REFRESH-INTERVAL;VALUE=DURATION:PT1H
X-Robots-Tag:noindex
X-PUBLISHED-TTL:PT1H
BEGIN:VTIMEZONE
TZID:America/Chicago
BEGIN:DAYLIGHT
TZOFFSETFROM:-0600
TZOFFSETTO:-0500
TZNAME:CDT
DTSTART:20250309T080000
END:DAYLIGHT
BEGIN:STANDARD
TZOFFSETFROM:-0500
TZOFFSETTO:-0600
TZNAME:CST
DTSTART:20251102T070000
END:STANDARD
BEGIN:DAYLIGHT
TZOFFSETFROM:-0600
TZOFFSETTO:-0500
TZNAME:CDT
DTSTART:20260308T080000
END:DAYLIGHT
BEGIN:STANDARD
TZOFFSETFROM:-0500
TZOFFSETTO:-0600
TZNAME:CST
DTSTART:20261101T070000
END:STANDARD
BEGIN:DAYLIGHT
TZOFFSETFROM:-0600
TZOFFSETTO:-0500
TZNAME:CDT
DTSTART:20270314T080000
END:DAYLIGHT
BEGIN:STANDARD
TZOFFSETFROM:-0500
TZOFFSETTO:-0600
TZNAME:CST
DTSTART:20271107T070000
END:STANDARD
END:VTIMEZONE
BEGIN:VEVENT
DTSTART;TZID=America/Chicago:20260724T180000
DTEND;TZID=America/Chicago:20260724T180000
DTSTAMP:20260420T181234
CREATED:20260211T200813Z
LAST-MODIFIED:20260212T160851Z
UID:10003934-1784916000-1784916000@www.wabashamn.org
SUMMARY:The Wren's Nest at Riverboat Days!
DESCRIPTION:Welcome to Wren’s Nest Mobile Bar at Riverboat Days! \nGet ready to sip in style with Wren’s Nest Mobile Bar—a retro 1965 Beeline camper transformed into a chic cocktail lounge on wheels! This eye-catching mobile bar will be serving up refreshing specialty cocktails Friday & Saturday during the 48th Annual Wabasha Riverboat Days. \n\nFriday\, July 24 | 6 PM – 11 PM \n\nFind them in the heart of the action at the corner of Walnut & Main\, just outside of Herb+Arrow Bar Kitchen: \nWhether you’re at Riverboat Days for the live music\, the car show\, the food\, or the festival fun\, The Wren’s Nest is your go-to stop for cool drinks and good vibes. \nFacebook Event
URL:https://www.wabashamn.org/event/the-wrens-nest-at-riverboat-days/
LOCATION:Herb + Arrow\, 260 West Main Street\, Wabasha\, MN\, 55981\, United States
CATEGORIES:All Events,Riverboat Days
ATTACH;FMTTYPE=image/jpeg:https://www.wabashamn.org/wp-content/uploads/TheWrensNestatRiverboatDays.jpg
GEO:44.3846618;-92.0333844
X-APPLE-STRUCTURED-LOCATION;VALUE=URI;X-ADDRESS=Herb + Arrow 260 West Main Street Wabasha MN 55981 United States;X-APPLE-RADIUS=500;X-TITLE=260 West Main Street:geo:-92.0333844,44.3846618
END:VEVENT
END:VCALENDAR