BEGIN:VCALENDAR
VERSION:2.0
PRODID:-//Wabasha-Kellogg Chamber &amp; CVB - ECPv6.15.20//NONSGML v1.0//EN
CALSCALE:GREGORIAN
METHOD:PUBLISH
X-WR-CALNAME:Wabasha-Kellogg Chamber &amp; CVB
X-ORIGINAL-URL:https://www.wabashamn.org
X-WR-CALDESC:Events for Wabasha-Kellogg Chamber &amp; CVB
REFRESH-INTERVAL;VALUE=DURATION:PT1H
X-Robots-Tag:noindex
X-PUBLISHED-TTL:PT1H
BEGIN:VTIMEZONE
TZID:America/Chicago
BEGIN:DAYLIGHT
TZOFFSETFROM:-0600
TZOFFSETTO:-0500
TZNAME:CDT
DTSTART:20250309T080000
END:DAYLIGHT
BEGIN:STANDARD
TZOFFSETFROM:-0500
TZOFFSETTO:-0600
TZNAME:CST
DTSTART:20251102T070000
END:STANDARD
BEGIN:DAYLIGHT
TZOFFSETFROM:-0600
TZOFFSETTO:-0500
TZNAME:CDT
DTSTART:20260308T080000
END:DAYLIGHT
BEGIN:STANDARD
TZOFFSETFROM:-0500
TZOFFSETTO:-0600
TZNAME:CST
DTSTART:20261101T070000
END:STANDARD
BEGIN:DAYLIGHT
TZOFFSETFROM:-0600
TZOFFSETTO:-0500
TZNAME:CDT
DTSTART:20270314T080000
END:DAYLIGHT
BEGIN:STANDARD
TZOFFSETFROM:-0500
TZOFFSETTO:-0600
TZNAME:CST
DTSTART:20271107T070000
END:STANDARD
END:VTIMEZONE
BEGIN:VEVENT
DTSTART;TZID=America/Chicago:20260605T130000
DTEND;TZID=America/Chicago:20260605T130000
DTSTAMP:20260424T102703
CREATED:20260421T180505Z
LAST-MODIFIED:20260421T180505Z
UID:10004995-1780664400-1780664400@www.wabashamn.org
SUMMARY:Great River Homes - Tom Peyla Golf Fundraiser & Dinner
DESCRIPTION:
URL:https://www.wabashamn.org/event/great-river-homes-tom-peyla-golf-fundraiser-dinner/
LOCATION:Lake Pepin Golf Course\, 70895 260th Ave\, Lake City\, 55041\, United States
CATEGORIES:All Events
ATTACH;FMTTYPE=image/jpeg:https://www.wabashamn.org/wp-content/uploads/grh.jpg
ORGANIZER;CN="Great River Homes%2C Inc.":MAILTO:grhomes@greatriverhomes.org
GEO:44.408352;-92.18297
X-APPLE-STRUCTURED-LOCATION;VALUE=URI;X-ADDRESS=Lake Pepin Golf Course 70895 260th Ave Lake City 55041 United States;X-APPLE-RADIUS=500;X-TITLE=70895 260th Ave:geo:-92.18297,44.408352
END:VEVENT
END:VCALENDAR