BEGIN:VCALENDAR
VERSION:2.0
PRODID:-//Wabasha-Kellogg Chamber &amp; CVB - ECPv6.15.20//NONSGML v1.0//EN
CALSCALE:GREGORIAN
METHOD:PUBLISH
X-ORIGINAL-URL:https://www.wabashamn.org
X-WR-CALDESC:Events for Wabasha-Kellogg Chamber &amp; CVB
REFRESH-INTERVAL;VALUE=DURATION:PT1H
X-Robots-Tag:noindex
X-PUBLISHED-TTL:PT1H
BEGIN:VTIMEZONE
TZID:America/Chicago
BEGIN:DAYLIGHT
TZOFFSETFROM:-0600
TZOFFSETTO:-0500
TZNAME:CDT
DTSTART:20250309T080000
END:DAYLIGHT
BEGIN:STANDARD
TZOFFSETFROM:-0500
TZOFFSETTO:-0600
TZNAME:CST
DTSTART:20251102T070000
END:STANDARD
BEGIN:DAYLIGHT
TZOFFSETFROM:-0600
TZOFFSETTO:-0500
TZNAME:CDT
DTSTART:20260308T080000
END:DAYLIGHT
BEGIN:STANDARD
TZOFFSETFROM:-0500
TZOFFSETTO:-0600
TZNAME:CST
DTSTART:20261101T070000
END:STANDARD
BEGIN:DAYLIGHT
TZOFFSETFROM:-0600
TZOFFSETTO:-0500
TZNAME:CDT
DTSTART:20270314T080000
END:DAYLIGHT
BEGIN:STANDARD
TZOFFSETFROM:-0500
TZOFFSETTO:-0600
TZNAME:CST
DTSTART:20271107T070000
END:STANDARD
END:VTIMEZONE
BEGIN:VEVENT
DTSTART;TZID=America/Chicago:20260618T180000
DTEND;TZID=America/Chicago:20260618T200000
DTSTAMP:20260425T185300
CREATED:20260211T190721Z
LAST-MODIFIED:20260212T154905Z
UID:10003927-1781805600-1781812800@www.wabashamn.org
SUMMARY:Get Certified in American Heart Association CPR
DESCRIPTION:Wabasha Fire Department: 113 Hiawatha Dr W \n\n$50 – BLS (Basic Life Support) \n\n$60 – Heartsaver \n\nAll Classes are 6PM – 8PM (end time may vary) \nSign up ends one week prior to class date.
URL:https://www.wabashamn.org/event/get-certified-in-american-heart-association-cpr-2/
LOCATION:Wabasha Fire Department\, 113 Hiawatha Drive W\, Wabasha\, MN\, 55987\, United States
CATEGORIES:All Events
ATTACH;FMTTYPE=image/jpeg:https://www.wabashamn.org/wp-content/uploads/Wabasha-Ambulance-CPR.jpg
GEO:44.3785701;-92.0353694
X-APPLE-STRUCTURED-LOCATION;VALUE=URI;X-ADDRESS=Wabasha Fire Department 113 Hiawatha Drive W Wabasha MN 55987 United States;X-APPLE-RADIUS=500;X-TITLE=113 Hiawatha Drive W:geo:-92.0353694,44.3785701
END:VEVENT
BEGIN:VEVENT
DTSTART;TZID=America/Chicago:20261015T180000
DTEND;TZID=America/Chicago:20261015T200000
DTSTAMP:20260425T185300
CREATED:20260211T190856Z
LAST-MODIFIED:20260212T155004Z
UID:10003929-1792087200-1792094400@www.wabashamn.org
SUMMARY:Get Certified in American Heart Association CPR
DESCRIPTION:Wabasha Fire Department: 113 Hiawatha Dr W \n\n$50 – BLS (Basic Life Support) \n\n$60 – Heartsaver \n\nAll Classes are 6PM – 8PM (end time may vary) \nSign up ends one week prior to class date.
URL:https://www.wabashamn.org/event/get-certified-in-american-heart-association-cpr-4/
LOCATION:Wabasha Fire Department\, 113 Hiawatha Drive W\, Wabasha\, MN\, 55987\, United States
CATEGORIES:All Events
ATTACH;FMTTYPE=image/jpeg:https://www.wabashamn.org/wp-content/uploads/Wabasha-Ambulance-CPR.jpg
GEO:44.3785701;-92.0353694
X-APPLE-STRUCTURED-LOCATION;VALUE=URI;X-ADDRESS=Wabasha Fire Department 113 Hiawatha Drive W Wabasha MN 55987 United States;X-APPLE-RADIUS=500;X-TITLE=113 Hiawatha Drive W:geo:-92.0353694,44.3785701
END:VEVENT
BEGIN:VEVENT
DTSTART;TZID=America/Chicago:20261217T180000
DTEND;TZID=America/Chicago:20261217T200000
DTSTAMP:20260425T185300
CREATED:20260211T190942Z
LAST-MODIFIED:20260212T154941Z
UID:10003930-1797530400-1797537600@www.wabashamn.org
SUMMARY:Get Certified in American Heart Association CPR
DESCRIPTION:Wabasha Fire Department: 113 Hiawatha Dr W \n\n$50 – BLS (Basic Life Support) \n\n$60 – Heartsaver \n\nAll Classes are 6PM – 8PM (end time may vary) \nSign up ends one week prior to class date.
URL:https://www.wabashamn.org/event/get-certified-in-american-heart-association-cpr-5/
LOCATION:Wabasha Fire Department\, 113 Hiawatha Drive W\, Wabasha\, MN\, 55987\, United States
CATEGORIES:All Events
ATTACH;FMTTYPE=image/jpeg:https://www.wabashamn.org/wp-content/uploads/Wabasha-Ambulance-CPR.jpg
GEO:44.3785701;-92.0353694
X-APPLE-STRUCTURED-LOCATION;VALUE=URI;X-ADDRESS=Wabasha Fire Department 113 Hiawatha Drive W Wabasha MN 55987 United States;X-APPLE-RADIUS=500;X-TITLE=113 Hiawatha Drive W:geo:-92.0353694,44.3785701
END:VEVENT
END:VCALENDAR