BEGIN:VCALENDAR
VERSION:2.0
PRODID:-//Wabasha-Kellogg Chamber &amp; CVB - ECPv6.15.20//NONSGML v1.0//EN
CALSCALE:GREGORIAN
METHOD:PUBLISH
X-WR-CALNAME:Wabasha-Kellogg Chamber &amp; CVB
X-ORIGINAL-URL:https://www.wabashamn.org
X-WR-CALDESC:Events for Wabasha-Kellogg Chamber &amp; CVB
REFRESH-INTERVAL;VALUE=DURATION:PT1H
X-Robots-Tag:noindex
X-PUBLISHED-TTL:PT1H
BEGIN:VTIMEZONE
TZID:America/Chicago
BEGIN:DAYLIGHT
TZOFFSETFROM:-0600
TZOFFSETTO:-0500
TZNAME:CDT
DTSTART:20250309T080000
END:DAYLIGHT
BEGIN:STANDARD
TZOFFSETFROM:-0500
TZOFFSETTO:-0600
TZNAME:CST
DTSTART:20251102T070000
END:STANDARD
BEGIN:DAYLIGHT
TZOFFSETFROM:-0600
TZOFFSETTO:-0500
TZNAME:CDT
DTSTART:20260308T080000
END:DAYLIGHT
BEGIN:STANDARD
TZOFFSETFROM:-0500
TZOFFSETTO:-0600
TZNAME:CST
DTSTART:20261101T070000
END:STANDARD
BEGIN:DAYLIGHT
TZOFFSETFROM:-0600
TZOFFSETTO:-0500
TZNAME:CDT
DTSTART:20270314T080000
END:DAYLIGHT
BEGIN:STANDARD
TZOFFSETFROM:-0500
TZOFFSETTO:-0600
TZNAME:CST
DTSTART:20271107T070000
END:STANDARD
END:VTIMEZONE
BEGIN:VEVENT
DTSTART;TZID=America/Chicago:20260411T170000
DTEND;TZID=America/Chicago:20260411T170000
DTSTAMP:20260425T205605
CREATED:20260226T143104Z
LAST-MODIFIED:20260226T150456Z
UID:10004687-1775926800-1775926800@www.wabashamn.org
SUMMARY:4th Annual Walker's Silvermoon Adult Prom
DESCRIPTION:Join us Saturday April 11th for the 4th annual Walker’s Silvermoon Adult Prom. \n\nSaturday April 11th\, 2026 \n\nWalker’s Silvermoon S1582 State Hwy 35 Alma\, WI 54610 \n\n$50/ ticket ($25 for meal\, $25 to St Judes) \n\nDoors open at 5PM\, Dinner at 6PM \n\nCasino Games 21+ only
URL:https://www.wabashamn.org/event/4th-annual-walkers-silvermoon-adult-prom/
LOCATION:Walker’s Silvermoon Restaurant\, Venue & Camping\, S1582 State Hwy 35\, Alma\, WI\, 54610\, United States
CATEGORIES:All Events
ATTACH;FMTTYPE=image/jpeg:https://www.wabashamn.org/wp-content/uploads/St-Jude-Walkers-Silvermoon-Adult-Prom.jpg
GEO:44.3658324;-91.9472388
X-APPLE-STRUCTURED-LOCATION;VALUE=URI;X-ADDRESS=Walker’s Silvermoon Restaurant Venue & Camping S1582 State Hwy 35 Alma WI 54610 United States;X-APPLE-RADIUS=500;X-TITLE=S1582 State Hwy 35:geo:-91.9472388,44.3658324
END:VEVENT
BEGIN:VEVENT
DTSTART;TZID=America/Chicago:20260328T133000
DTEND;TZID=America/Chicago:20260328T133000
DTSTAMP:20260425T205605
CREATED:20260226T145156Z
LAST-MODIFIED:20260226T145156Z
UID:10004688-1774704600-1774704600@www.wabashamn.org
SUMMARY:LOD Dart Tournament Fundraiser
DESCRIPTION:Join us Saturday March 28th for the LOD Dart Tournament Fundraiser at Walker’s Silvermoon. \n\nSaturday March 28th \n\nWalker’s Silvermoon S1582 State Hwy 35 Alma\, WI 54610 \n\nSign up at 1:30PM \n\nDarts Fly at 2PM \nInglett Motorsports will be adding $100 to the pot and Walker’s Silvermoon will match it!
URL:https://www.wabashamn.org/event/lod-dart-tournament-fundraiser/
LOCATION:Walker’s Silvermoon Restaurant\, Venue & Camping\, S1582 State Hwy 35\, Alma\, WI\, 54610\, United States
CATEGORIES:All Events
ATTACH;FMTTYPE=image/jpeg:https://www.wabashamn.org/wp-content/uploads/Inglett-Motorsports-Dart-Tournament-Fundraiser.jpg
GEO:44.3658324;-91.9472388
X-APPLE-STRUCTURED-LOCATION;VALUE=URI;X-ADDRESS=Walker’s Silvermoon Restaurant Venue & Camping S1582 State Hwy 35 Alma WI 54610 United States;X-APPLE-RADIUS=500;X-TITLE=S1582 State Hwy 35:geo:-91.9472388,44.3658324
END:VEVENT
BEGIN:VEVENT
DTSTART;TZID=America/Chicago:20260314T120000
DTEND;TZID=America/Chicago:20260314T150000
DTSTAMP:20260425T205605
CREATED:20260226T150252Z
LAST-MODIFIED:20260226T150413Z
UID:10004689-1773489600-1773500400@www.wabashamn.org
SUMMARY:Early St. Patrick's Day Polka Party
DESCRIPTION:Grab your friends\, raise a pint\, and let’s polka into St. Paddy’s Day the right way! \n\nSaturday\, March 14th \n\nNoon – 3:00 PM \n\n$10 Cover \n\nCorned Beef Dinner Starting at 2PM \n\nGreen Beer Specials \n\nPolka Dancing All Afternoon
URL:https://www.wabashamn.org/event/early-st-patricks-day-polka-party/
LOCATION:Walker’s Silvermoon Restaurant\, Venue & Camping\, S1582 State Hwy 35\, Alma\, WI\, 54610\, United States
CATEGORIES:All Events
ATTACH;FMTTYPE=image/jpeg:https://www.wabashamn.org/wp-content/uploads/Walkers-Silvermoon-St-Paddys-Day.jpg
GEO:44.3658324;-91.9472388
X-APPLE-STRUCTURED-LOCATION;VALUE=URI;X-ADDRESS=Walker’s Silvermoon Restaurant Venue & Camping S1582 State Hwy 35 Alma WI 54610 United States;X-APPLE-RADIUS=500;X-TITLE=S1582 State Hwy 35:geo:-91.9472388,44.3658324
END:VEVENT
BEGIN:VEVENT
DTSTART;TZID=America/Chicago:20260214T160000
DTEND;TZID=America/Chicago:20260214T210000
DTSTAMP:20260425T205605
CREATED:20260202T192345Z
LAST-MODIFIED:20260202T192345Z
UID:10003744-1771084800-1771102800@www.wabashamn.org
SUMMARY:Valentine's Day Menu at Walker's Silvermoon Restaurant
DESCRIPTION:
URL:https://www.wabashamn.org/event/valentines-day-menu-at-walkers-silvermoon-restaurant/
LOCATION:Walker’s Silvermoon Restaurant\, Venue & Camping\, S1582 State Hwy 35\, Alma\, WI\, 54610\, United States
CATEGORIES:All Events
ATTACH;FMTTYPE=image/jpeg:https://www.wabashamn.org/wp-content/uploads/image-1387666229478217.jpg
GEO:44.3658324;-91.9472388
X-APPLE-STRUCTURED-LOCATION;VALUE=URI;X-ADDRESS=Walker’s Silvermoon Restaurant Venue & Camping S1582 State Hwy 35 Alma WI 54610 United States;X-APPLE-RADIUS=500;X-TITLE=S1582 State Hwy 35:geo:-91.9472388,44.3658324
END:VEVENT
BEGIN:VEVENT
DTSTART;TZID=America/Chicago:20260214T120000
DTEND;TZID=America/Chicago:20260214T150000
DTSTAMP:20260425T205605
CREATED:20260128T215823Z
LAST-MODIFIED:20260128T215823Z
UID:10003742-1771070400-1771081200@www.wabashamn.org
SUMMARY:Valentine's Day Polka Dance
DESCRIPTION:
URL:https://www.wabashamn.org/event/valentines-day-polka-dance/
LOCATION:Walker’s Silvermoon Restaurant\, Venue & Camping\, S1582 State Hwy 35\, Alma\, WI\, 54610\, United States
CATEGORIES:All Events
ATTACH;FMTTYPE=image/jpeg:https://www.wabashamn.org/wp-content/uploads/image-2250913172098699.jpg
GEO:44.3658324;-91.9472388
X-APPLE-STRUCTURED-LOCATION;VALUE=URI;X-ADDRESS=Walker’s Silvermoon Restaurant Venue & Camping S1582 State Hwy 35 Alma WI 54610 United States;X-APPLE-RADIUS=500;X-TITLE=S1582 State Hwy 35:geo:-91.9472388,44.3658324
END:VEVENT
END:VCALENDAR