BEGIN:VCALENDAR
VERSION:2.0
PRODID:-//Wabasha-Kellogg Chamber &amp; CVB - ECPv6.15.20//NONSGML v1.0//EN
CALSCALE:GREGORIAN
METHOD:PUBLISH
X-ORIGINAL-URL:https://www.wabashamn.org
X-WR-CALDESC:Events for Wabasha-Kellogg Chamber &amp; CVB
REFRESH-INTERVAL;VALUE=DURATION:PT1H
X-Robots-Tag:noindex
X-PUBLISHED-TTL:PT1H
BEGIN:VTIMEZONE
TZID:America/Chicago
BEGIN:DAYLIGHT
TZOFFSETFROM:-0600
TZOFFSETTO:-0500
TZNAME:CDT
DTSTART:20250309T080000
END:DAYLIGHT
BEGIN:STANDARD
TZOFFSETFROM:-0500
TZOFFSETTO:-0600
TZNAME:CST
DTSTART:20251102T070000
END:STANDARD
BEGIN:DAYLIGHT
TZOFFSETFROM:-0600
TZOFFSETTO:-0500
TZNAME:CDT
DTSTART:20260308T080000
END:DAYLIGHT
BEGIN:STANDARD
TZOFFSETFROM:-0500
TZOFFSETTO:-0600
TZNAME:CST
DTSTART:20261101T070000
END:STANDARD
BEGIN:DAYLIGHT
TZOFFSETFROM:-0600
TZOFFSETTO:-0500
TZNAME:CDT
DTSTART:20270314T080000
END:DAYLIGHT
BEGIN:STANDARD
TZOFFSETFROM:-0500
TZOFFSETTO:-0600
TZNAME:CST
DTSTART:20271107T070000
END:STANDARD
END:VTIMEZONE
BEGIN:VEVENT
DTSTART;TZID=America/Chicago:20260429T090000
DTEND;TZID=America/Chicago:20260429T120000
DTSTAMP:20260420T083809
CREATED:20260413T191835Z
LAST-MODIFIED:20260413T191835Z
UID:10004951-1777453200-1777464000@www.wabashamn.org
SUMMARY:Join Us for Shred Day
DESCRIPTION:
URL:https://www.wabashamn.org/event/join-us-for-shred-day/
LOCATION:WNB Financial\, 111 Main Street West\, Wabasha\, 55987\, United States
CATEGORIES:All Events
ATTACH;FMTTYPE=image/jpeg:https://www.wabashamn.org/wp-content/uploads/shred.jpg
GEO:44.3833847;-92.0319507
X-APPLE-STRUCTURED-LOCATION;VALUE=URI;X-ADDRESS=WNB Financial 111 Main Street West Wabasha 55987 United States;X-APPLE-RADIUS=500;X-TITLE=111 Main Street West:geo:-92.0319507,44.3833847
END:VEVENT
END:VCALENDAR